Workbook

Sheet MENÚ
D4: DE | G4: DJ | J4: DA
D11: REUNIONES | G11: JOVENES | J11: EVENTOS
D18: TURISMO | G18: RUT | J18: PROGRAMAS
D25: COMISIONES | J25: COBERTURA

Sheet GENERAL
B3: NUM. | C3: FECHA | D3: HORA | E3: MODALIDAD | F3: MCPIO/PLATAFORMA | G3: ESPACIO | H3: ALIADO | I3: EVENTO | J3: ASIST. | K3: DURACIÓN | L3: ÁREA | M3: ESTADO
B4: 1 | C4: 44963 | E4: Virtual | F4: N/I | H4: CCMMNA | I4: Registro de marca | K4: 2 | L4: DJ | M4: Sin ejecutar
C5: 44972 | E5: Virtual | F5: Teams | G5: NA | I5: Sistema de información de alojamiento turistico | J5: 44 | K5: 2 | L5: DJ
B6: 2 | C6: 44973 | E6: Presencial | F6: Anori | H6: RISES | I6: Costos de productos | K6: 2 | L6: DE | M6: Sin ejecutar
B7: 3 | C7: 44978 | E7: Presencial | F7: El Bagre | H7: RISES | I7: Como presentar tu portafolio comercial | K7: 2 | L7: DE | M7: Sin ejecutar
B8: 4 | C8: 44978 | E8: Presencial | F8: Puerto Berrio | H8: DIAN | I8: Capacitación en Régimen Simple de Tributación | J8: 6 | K8: 2 | L8: DA
B9: 5 | C9: 44978 | E9: Presencial | F9: Puerto Berrio | H9: DIAN | I9: Jornada de actualizacón del RUT | J9: 83 | K9: 8 | L9: DA
B10: 6 | C10: 44979 | E10: Presencial | F10: Puerto Berrio | H10: DIAN | I10: Jornada de actualizacón del RUT | J10: 50 | K10: 4 | L10: DA
B11: 7 | C11: 44979 | E11: Virtual | F11: N/I | H11: CCMMNA | I11: Tarde del empresario: Servicio al cliente | J11: 43 | K11: 2 | L11: DE
B12: 8 | C12: 44980 | E12: Presencial | F12: Puerto Berrio | H12: CCMMNA | I12: Ruta Estratégica de Desarrollo Regional | J12: 13 | K12: 2 | L12: DE
B13: 9 | C13: 44985 | E13: Virtual | F13: N/I | H13: RISES | I13: Costos de productos | K13: 2 | L13: DE | M13: Sin ejecutar
B14: 10 | C14: 44986 | E14: Virtual | F14: N/I | H14: CCMMNA | I14: Trámites ante el invima | K14: 2 | L14: DJ | M14: Sin ejecutar
B15: 11 | C15: 44987 | E15: Presencial | F15: Puerto Berrio | H15: Policia | I15: Seguridad comercial | J15: 22 | K15: 2
B16: 12 | C16: 44994 | E16: Presencial | F16: Nechi | H16: OWL | I16: Fotográfia de productos | K16: 2 | L16: DE | M16: Sin ejecutar
B17: 13 | C17: 45001 | E17: Presencial | F17: Maceo | H17: SENA | I17: Manipulación de alimentos | K17: 2 | L17: DE
B18: 14 | C18: 45006 | E18: Presencial | F18: Puerto Berrio | H18: SENA | I18: Manipulación de alimentos | K18: 2 | L18: DE
B19: 15 | C19: 45007 | E19: Virtual | F19: N/I | H19: DIAN | I19: Tarde del empresario: Facturación y nómina electrónica | J19: 150 | K19: 2 | L19: DE
B20: 16 | C20: 45009 | E20: Presencial | F20: Puerto Nare | H20: SENA | I20: Manipulación de alimentos | K20: 2 | L20: DE
B21: 17 | C21: 45012 | E21: Presencial | F21: Puerto Triunfo | H21: SENA | I21: Manipulación de alimentos | K21: 2 | L21: DE
B22: 18 | C22: 45028 | D22: 4:00p.m. a 6:00p.m. | E22: Presencial | F22: Puerto Nare | H22: RISES | I22: Servicio al cliente | J22: 39 | K22: 2 | L22: DE
C23: 45028 | D23: 3:00p.m. a 5:00p.m. | E23: Virtual | F23: N/I | G23: NA | H23: Logyca | I23: Lleva la logystica de su negocio a otro nivel | J23: 23 | K23: 2
B24: 19 | C24: 45028 | E24: Presencial | F24: Segovia | H24: DIAN | I24: Régimen simple de tributación, nómina y factura electrónica | K24: 2 | L24: DA | M24: Pendiente
B25: 20 | C25: 45029 | E25: Presencial | F25: Puerto Triunfo | H25: DIAN | I25: SIAT | K25: 2 | L25: DJ | M25: Pendiente
B26: 21 | C26: 45035 | E26: Virtual | F26: N/I | H26: CCU | I26: Tarde del empresario: Trámite de alimentos ante el invima | J26: 41 | K26: 2 | L26: DE
B27: 22 | C27: 45035 | D27: 6:30p.m. a 8:30p.m. | E27: Presencial | F27: Puerto Berrio | G27: Auditorio CCMMNA | H27: RISES | I27: Servicio al cliente | J27: 33 | K27: 2 | L27: DE
B28: 23 | C28: 45036 | D28: 4:00p.m. a 6:00p.m. | E28: Presencial | F28: Puerto Triunfo - Doradal | G28: Hotel Yahaya | H28: RISES | I28: Servicio al cliente | J28: 38 | K28: 2 | L28: DE
C29: 45037 | D29: 4:00p.m. a 6:00p.m. | E29: Presencial | F29: San Roque | G29: Parque eductaivo | H29: RISES | I29: Creación de productos turisticos | K29: 2
B30: 24 | C30: 45037 | E30: Virtual | F30: N/I | H30: Comfama | I30: Conexión a la seguridad social | J30: 14 | K30: 2 | L30: DE
B31: 25 | C31: 45042 | D31: 3:00p.m. a 5:00p.m. | E31: Presencial | F31: Remedios | G31: Parque Educativo | H31: RISES | I31: Servicio al cliente | J31: 40 | K31: 2 | L31: DE
B32: 26 | C32: 45043 | E32: Presencial | F32: El Bagre | H32: DIAN | I32: Régimen simple de tributación, nómina y factura electrónica | K32: 2 | L32: DA
B33: 27 | C33: 45049 | D33: 4:00p.m. a 6:00p.m. | E33: Presencial | F33: San Roque | G33: Parque Educativo “Dulce Aroma Del Saber”. Aula #1 | H33: RISES | I33: Servicio al cliente | K33: 2 | L33: DE | M33: Info Ana Maria
C34: 45049 | D34: 4:00p.m. a 6:00p.m. | E34: Presencial | F34: San Roque | G34: Parque Educativo | H34: Rises | I34: Servicio al cliente | J34: 21
C35: 45049 | D35: 4:00p.m. a 6:00p.m. | E35: Virtual | F35: NA | G35: Teams | H35: Basilio Vicens | I35: Costeo de Experiencias Turisticas | J35: 16
B36: 28 | C36: 45050 | D36: 4:00p.m. a 6:00p.m. | E36: Presencial | F36: Vegachí | H36: Comfama | I36: Conexión a la seguridad social
B37: 29 | C37: 45052 | D37: 09:00a.m. a 11:00a.m | E37: Presencial | F37: Amalfi | H37: Comfama | I37: Conexión a la seguridad social
B38: 30 | C38: 45056 | D38: 4:00p.m. a 6:00p.m. | E38: Presencial | F38: Caracolí | G38: Biblioteca publica municipal | H38: RISES | I38: Servicio al cliente | J38: 17 | K38: 2 | L38: DE
B39: 31 | C39: 45056 | E39: Presencial | F39: Cisneros | H39: DIAN | I39: Régimen simple de tributación, nómina y factura electrónica | K39: 2 | L39: DA | M39: Actuaizar. Solicitar fechas a DIAN
C40: 45056 | D40: 09:00a.m. a 11:00a.m | E40: Presencial | F40: Puerto Berrío | G40: Auditorio CCMMNA | H40: SENA | I40: Jóvenes en cámara | J40: 90 | K40: 2 | L40: DE
B41: 32 | C41: 45057 | D41: 4:00p.m. a 6:00p.m. | E41: Presencial | F41: Yolombó | G41: Parque educativo "Barbara Caballero y Alzate". Aula #1 | H41: RISES | I41: Servicio al cliente | K41: 2 | L41: DE
B42: 33 | C42: 45062 | D42: 02:00p.m a 4:00p.m. | E42: Presencial | F42: Puerto triunfo | H42: Comfama | I42: Conexión a la seguridad social
...

Sheet DESARROLLO EMPRESARIAL
E2: FORMACIONES DESARROLLO EMPRESARIAL | N2: RETORNO
E4: NUM. | F4: FECHA | G4: MODALIDAD | H4: MUNICIPIO/PLATAFORMA | I4: ALIADO | J4: EVENTO | K4: ASISTENTES | L4: DURACIÓN
E5: 1 | F5: 44959 | G5: Presencial | H5: Anori | I5: Rises | J5: Costos de productos | L5: 2
E6: 2 | F6: 44971 | G6: Presencial | H6: Cisneros | I6: Rises | J6: Servicio al cliente | L6: 2
F7: 44978 | G7: Presencial | H7: Puerto Berrio | I7: Dian | J7: Capacitación en Régimen Simple de Tributación | K7: 6 | L7: 2
E8: 3 | F8: 44979 | G8: Virtual | H8: N/I | I8: CCMMNA | J8: Tarde del empresario: "El arte de servir con estilo" | K8: 7 | L8: 2
E9: 4 | F9: 44985 | G9: Virtual | H9: N/I | I9: Rises | J9: Costos de productos | L9: 2
F10: 44987 | G10: Presencial | H10: Puerto Berrio | I10: Policia | J10: Seguridad comercial | K10: 22
E11: 5 | F11: 44992 | G11: Presencial | H11: El Bagre | I11: Rises | J11: Como presentar tu portafolio comercial | L11: 2
E12: 6 | F12: 44994 | G12: Presencial | H12: Nechi | I12: OWL | J12: Fotográfia de productos | L12: 2
E13: 7 | F13: 45001 | G13: Presencial | H13: Zaragoza | I13: Rises | J13: Servicio al cliente | L13: 2
E14: 8 | F14: 45006 | G14: Presencial | H14: Yondo | I14: Rises | J14: Servicio al cliente | L14: 2
F15: 45008 | G15: Presencial | H15: Puerto Berrio | I15: CCMMNA | J15: Ruta Estratégica de Desarrollo Regional | K15: 13
E16: 9 | F16: 45009 | G16: Presencial | H16: Yali | I16: Rises | J16: Servicio al cliente | L16: 2
E17: 10 | F17: 45012 | G17: Presencial | H17: Amalfi | I17: Rises | J17: Servicio al cliente | L17: 2
E18: 11 | F18: 45007 | G18: Virtual | H18: N/I | I18: Dian | J18: Tarde del empresario: Facturación y nómina electrónica | K18: 150 | L18: 2
F19: 45021 | G19: Presencial | H19: Puerto Berrío | I19: CCMMNA | J19: Asesoria empresarial | L19: 2
E20: 12 | F20: 45028 | G20: Presencial | H20: Puerto Nare | I20: Rises | J20: Servicio al cliente | K20: 39 | L20: 2
F21: 45028 | G21: Virtual | H21: Puerto Berrío | I21: Logyca | J21: Lleva la logística de tu negocio a otro nivel | K21: 23 | L21: 2
E22: 13 | F22: 45035 | G22: Virtual | H22: Puerto Berrío | I22: CCU | J22: Tarde del empresario: Tramites y requisitos de alimentos ante el INVIMA | K22: 1 | L22: 2
F23: 45035 | G23: Virtual | H23: Amalfi | I23: CCU | J23: Tarde del empresario: Tramites y requisitos de alimentos ante el INVIMA | K23: 1 | L23: 2
F24: 45035 | G24: Virtual | H24: Anorí | I24: CCU | J24: Tarde del empresario: Tramites y requisitos de alimentos ante el INVIMA | K24: 1 | L24: 2
F25: 45035 | G25: Virtual | H25: Caracolí | I25: CCU | J25: Tarde del empresario: Tramites y requisitos de alimentos ante el INVIMA | K25: 1 | L25: 2
F26: 45035 | G26: Virtual | H26: Cisneros | I26: CCU | J26: Tarde del empresario: Tramites y requisitos de alimentos ante el INVIMA | K26: 1 | L26: 2
F27: 45035 | G27: Virtual | H27: El Bagre | I27: CCU | J27: Tarde del empresario: Tramites y requisitos de alimentos ante el INVIMA | K27: 1 | L27: 2
F28: 45035 | G28: Virtual | H28: Maceo | I28: CCU | J28: Tarde del empresario: Tramites y requisitos de alimentos ante el INVIMA | K28: 2 | L28: 2
F29: 45035 | G29: Virtual | H29: Puerto Nare | I29: CCU | J29: Tarde del empresario: Tramites y requisitos de alimentos ante el INVIMA | K29: 4 | L29: 2
F30: 45035 | G30: Virtual | H30: Puerto Triunfo | I30: CCU | J30: Tarde del empresario: Tramites y requisitos de alimentos ante el INVIMA | K30: 2 | L30: 2
F31: 45035 | G31: Virtual | H31: San Roque | I31: CCU | J31: Tarde del empresario: Tramites y requisitos de alimentos ante el INVIMA | K31: 2 | L31: 2
F32: 45035 | G32: Virtual | H32: Yolombó | I32: CCU | J32: Tarde del empresario: Tramites y requisitos de alimentos ante el INVIMA | K32: 1 | L32: 2
F33: 45035 | G33: Virtual | H33: Yondó | I33: CCU | J33: Tarde del empresario: Tramites y requisitos de alimentos ante el INVIMA | K33: 1 | L33: 2
E34: 14 | F34: 45035 | G34: Presencial | H34: Puerto Berrío | I34: Rises | J34: Servicio al cliente | K34: 34 | L34: 2
F35: 45037 | G35: Virtual | H35: Puerto Berrío | I35: Comfama | J35: Conexión a la seguridad social | K35: 11 | L35: 2
F36: 45037 | G36: Virtual | H36: Remedios | I36: Comfama | J36: Conexión a la seguridad social | K36: 1
F37: 45037 | G37: Presencial | H37: San Roque | I37: CCMMNA | J37: Creación de productos turisticos | L37: 2
E38: 15 | F38: 45042 | G38: Presencial | H38: Remedios | I38: Rises | J38: Servicio al cliente | K38: 40 | L38: 2
E39: 16 | F39: 45036 | G39: Presencial | H39: Puerto Triunfo | I39: Rises | J39: Servicio al cliente | K39: 39 | L39: 2
F40: 45049 | G40: Virtual | H40: Amalfi | J40: Costeo de Experiencias Turisticas | K40: 1 | L40: 2
F41: 45049 | G41: Virtual | H41: Cisneros | J41: Costeo de Experiencias Turisticas | K41: 1 | L41: 2
F42: 45049 | G42: Virtual | H42: Maceo | J42: Costeo de Experiencias Turisticas | K42: 1 | L42: 2
...

Sheet DIRECCIÓN JURÍDICA
E3: FORMACIONES DIRECCIÓN JURÍDICA | N3: RETORNO
E5: NUM. | F5: FECHA | G5: MODALIDAD | H5: MUNICIPIO/PLATAFORMA | I5: ALIADO | J5: EVENTO | K5: ASISTENTES | L5: DURACIÓN
E6: 1 | F6: 44963 | G6: Virtual | H6: N/I | J6: Registro de marca
E7: 2 | F7: 44986 | G7: Virtual | H7: N/I | J7: Trámites ante el invima
E8: 3 | F8: 45029 | G8: Presencial | H8: Puerto Triunfo | J8: SIAT
E9: 4 | F9: 02/17/2023 | G9: Virtual | H9: N/I | J9: SIAT | K9: 24
E10: 5 | F10: 45098 | G10: Presencial | H10: Nechi | J10: Alcaldía
E11: 6 | F11: 45099 | G11: Presencial | H11: Puerto Triunfo | J11: RNT
E12: 7 | F12: 45132 | G12: Virtual | H12: N/I | J12: RNT
E13: 8 | F13: 45148 | G13: Virtual | H13: N/I | J13: Formalización empresarial
E14: 9 | F14: 45182 | G14: Presencial | H14: Segovia | J14: Formalización empresarial
E15: 10 | F15: 45217 | G15: Presencial | H15: Nechi | J15: Esales
E16: 11 | F16: 45252 | G16: Presencial | H16: El Bagre | J16: Esales
K17: =SUM(K6:K16) -> 24 | L17: =SUM(L6:L16) -> 0

Sheet DIRECCIÓN ADMINISTRATIVA 
B2: FORMACIONES DIRECCIÓN ADMINISTRATIVA Y FINANCIERA | K2: RETORNO
B4: NUM. | C4: FECHA | D4: MODALIDAD | E4: MUNICIPIO/PLATAFORMA | F4: ALIADO | G4: EVENTO | H4: ASISTENTES | I4: DURACIÓN
B5: 1 | C5: 44966 | D5: Presencial | E5: Segovia | F5: Dian | G5: Regimen simple de tributación, nómina y factura electronica | I5: 2
C6: 44978 | D6: Presencial | E6: Puerto Berrio | F6: Dian | G6: Capacitación en Régimen Simple de Tributación
C7: 44978 | D7: Presencial | E7: Puerto Berrio | F7: Dian | G7: Jornada de actualizacón del RUT | H7: 83
C8: 44979 | D8: Presencial | E8: Puerto Berrio | F8: Dian | G8: Jornada de actualizacón del RUT | H8: 50
B9: 2 | C9: 44999 | D9: Presencial | E9: Puerto Berrio | G9: Regimen simple de tributación, nómina y factura electronica | I9: 2
B10: 3 | C10: 45043 | D10: Presencial | E10: El Bagre | G10: Regimen simple de tributación, nómina y factura electronica | I10: 2
B11: 4 | C11: 45063 | D11: Presencial | E11: San Roque | G11: Regimen simple de tributación, nómina y factura electronica | I11: 2
B12: 5 | C12: 45097 | D12: Presencial | E12: Puerto Berrio | G12: Contribucion parafiscal | I12: 2
B13: 6 | C13: 45120 | D13: Presencial | E13: El Bagre | G13: Gestión financiera | I13: 2
B14: 7 | C14: 45169 | D14: Presencial | E14: San Roque | G14: Manejo de nómina y prestaciones sociales | I14: 2
B15: 8 | C15: 45181 | D15: Presencial | E15: Zaragoza | G15: Finanzas corporativas | I15: 2
B16: 9 | C16: 45201 | D16: Presencial | E16: Nechi | G16: Habilidades administrativas y financieras | I16: 2
B17: 10 | C17: 45245 | D17: Presencial | E17: Vegachi | G17: Contabilidad básica para tu negocio | I17: 2
H18: =SUM(H5:H17) -> 133 | I18: =SUM(I5:I17) -> 20

Sheet REUNIONES
A2: REUNIONES | I2: RETORNO
A4: FECHA | B4: MODALIDAD | C4: LUGAR/MUNICIPIO | D4: TEMA | E4: ASISTENTES | F4: INTENSIDAD HORARIA | G4: AREA
A5: 27.02.2023 | B5: Presencial | C5: Medellin | D5: Primera reunión 2023 del Dialogo San Roque
A6: 45027 | B6: Presencial | C6: San Roque | D6: Reunión Junta Asesora CUEE Nordeste | E6: 47 | F6: 4 | G6: DE
E9: =SUM(E5:E8) -> 47 | F9: =SUM(F5) -> 0

Sheet JOVENES EN CÁMARA
A2: JOVENES EN CÁMARA | J2: RETORNO
A4: FECHA | B4: MODALIDAD | C4: MEDIO/LUGAR | D4: ALIADO | E4: EVENTO | F4: ASISTENTES | G4: INTENSIDAD HORARIA | H4: AREA
A5: 23.02.2023 | B5: Presencial | C5: N/I | E5: Ruta Estratégica de Desarrollo Regional | F5: 13 | G5: 2 | H5: DE
A6: 10.05.2023 | B6: Presencial | C6: Puerto Berrio | D6: SENA | E6: Jóvenes en Cámara | F6: 90 | G6: 4
F15: =SUM(F5:F14) -> 103 | G15: =SUM(G5:G14) -> 6

Sheet EVENTOS
A2: EVENTOS | J2: RETORNO
A4: FECHA | B4: MODALIDAD | C4: MEDIO/LUGAR | D4: ALIADO | E4: EVENTO | F4: ASISTENTES | G4: INTENSIDAD HORARIA | H4: AREA
F17: =SUM(F5:F16) -> 0

Sheet TURISMO
A2: TURISMO | J2: RETORNO
A4: FECHA | B4: MODALIDAD | C4: MEDIO/LUGAR | D4: ALIADO | E4: EVENTO | F4: ASISTENTES | G4: INTENSIDAD HORARIA | H4: AREA
F15: =SUM(F5:F14) -> 0

Sheet JORNADAS TRAMITACIÓN RUT
A2: JORNADAS DE TRAMITACIÓN RUT | J2: RETORNO
A4: FECHA | B4: MODALIDAD | C4: MEDIO/LUGAR | D4: ALIADO | E4: EVENTO | F4: ASISTENTES | G4: INTENSIDAD HORARIA | H4: AREA
A5: 21.02.2023 | B5: Presencial | C5: Puerto Berrio | D5: DIAN | E5: Jornada de Expedición y Actualización del RUT | F5: 90
A6: 21.02.2023 | B6: Presencial | C6: Puerto Berrio | D6: DIAN | E6: Jornada de Expedición y Actualización del RUT | F6: 43
F15: =SUM(F5:F14) -> 133

Sheet PROGRAMAS 
A2: PROGRAMAS | J2: RETORNO
A4: FECHA | B4: MODALIDAD | C4: MEDIO/LUGAR | D4: ALIADO | E4: EVENTO | F4: ASISTENTES | G4: INTENSIDAD HORARIA | H4: AREA
A5: 11.01.2023 | B5: Hibrido | D5: CTA | E5: Economía circular empresas | F5: 15
A6: 11.01.2023 | B6: Hibrido | D6: CTA | E6: ofesionale Economía circular profesionales | F6: 15
A7: 11.04.2023 | B7: Hibrido | C7: N/I | E7: Crecer es posible | F7: 89 (inscritos)
F16: =SUM(F5:F15) -> 30

Sheet COMISIONES
A2: COMISIONES | J2: RETORNO
A4: FECHA | B4: MODALIDAD | C4: MEDIO/LUGAR | D4: ALIADO | E4: EVENTO | F4: ASISTENTES | G4: INTENSIDAD HORARIA | H4: AREA
A5: 21.02.2023 | B5: Presencial | C5: Puerto Berrio | E5: Comisión regional CUEE
A6: 21.02.2023 | B6: Presencial | C6: Puerto Berrio | E6: Comisión regional CUEE
A7: 45027 | B7: Presencial | E7: Comisión regional CUEE
F15: =SUM(F5:F14) -> 0

Sheet Gráficas 
B3: DESARROLLO EMPRESARIAL | H3: DESARROLLO JURIDICA | M3: DIRECCIÓN ADMINISTRATIVA
B4: MUNICIPIOS | C4: ASISTENTES | H4: MUNICIPIOS | I4: ASISTENTES | M4: Puerto berrio | N4: 72
B5: Amalfi | C5: 62 | H5: Puerto berrio | I5: 47 | M5: El Bagre | N5: 21
B6: El bagre | C6: 47 | H6: Puerto triunfo | I6: 43 | M6: San roque | N6: 39
B7: El bagre virtual | C7: 3 | H7: Virtual | I7: 156 | M7: Virtual | N7: 293
B8: Caracolí | C8: 121 | H8: Anorí | I8: 22 | N8: 425
B9: Cisneros virtual | C9: 17 | I9: 268
B10: Puerto berrio | C10: 315
B11: Puerto berrio virtual | C11: 19
B12: San Roque | C12: 15
B13: San Roque virtual | C13: 5
B14: Vegachí | C14: 30 | H14: Total capacitaciones | I14: =C16+I9+N8 -> 1624
B15: Virtual | C15: 297
C16: =SUM(C5:C15) -> 931
B42: TRAMITACION DE RUT
B43: Puerto Berrio | C43: 27
B44: El Bagre | C44: 26
B45: San Roque | C45: 98
B46: Yolombó | C46: 103
B47: Virtual | C47: 26
B48: Total | C48: 280

Sheet COBERTURA 
A1: COBERTURA POR PROGRAMA | M1: RETORNO
A3: PROGRAMA | B3: COBERTURA | C3: GRÁFICO
A4: DESARROLLO EMPRESARIAL | B4: ='DESARROLLO EMPRESARIAL'!$K$175 -> 0 | C4: =B4 -> 0
A5: DIRECCIÓN JURÍDICA | B5: ='DIRECCIÓN JURÍDICA'!$K$17 -> 24 | C5: =B5 -> 24
A6: DIRECCIÓN ADMINISTRATIVA | B6: ='DIRECCIÓN ADMINISTRATIVA '!$H$18 -> 133 | C6: =B6 -> 133
A7: REUNIONES | B7: =REUNIONES!$E$9 -> 47 | C7: =B7 -> 47
A8: JOVENES EN CÁMARA | B8: ='JOVENES EN CÁMARA'!$F$15 -> 103 | C8: =B8 -> 103
A9: EVENTOS | B9: =EVENTOS!$F$17 -> 0 | C9: =B9 -> 0
A10: TURISMO | B10: =TURISMO!$F$15 -> 0 | C10: =B10 -> 0
A11: JORNADAS TRAMITACIÓN RUT | B11: ='JORNADAS TRAMITACIÓN RUT'!F15 -> 133 | C11: =B11 -> 133
A12: PROGRAMAS | B12: ='PROGRAMAS '!$F$16 -> 30 | C12: =B12 -> 30
A13: COMISIONES | B13: =COMISIONES!$F$15 -> 0 | C13: =B13 -> 0
A14: Total cobertura | B14: =SUM(B4:B13) -> 470
A24: MODALIDAD | C24: GRÁFICO
A25: Presencial | C25: =B25 -> 0
A26: Virtual | C26: =B26 -> 0
B27: =SUM(B25:B26) -> 0
A44: COBERTURA POR MUNICIPIO | C44: GRÁFICO
A45: Amalfi | C45: =B45 -> 0
A46: Anorí | C46: =B46 -> 0
A47: Caracolí | C47: =B47 -> 0
A48: Cisneros | C48: =B48 -> 0
A49: Cisneros virtual | C49: =B49 -> 0
A50: El Bagre | C50: =B50 -> 0
A51: El Bagre virtual | C51: =B51 -> 0
A52: La Sierra | C52: =B52 -> 0
A53: Maceo | C53: =B53 -> 0
A54: Medellin | C54: =B54 -> 0
A55: Puerto Berrio | C55: =B55 -> 0
A56: Puerto Berrio virtual | C56: =B56 -> 0
... A63: Virtual | C63: =B63 -> 0
B64: =SUM(B45:B63) -> 0
A69: CAPACITACIONES POR MUNICIPIO

Sheet Datos desplegables 
B2: Cobertura informe de capacitaciones | H2: Municipios | J2: Modalidad
B3: 26 | C3: Tramitacion rut | D3: Segovia - Berrio | H3: Amalfi | J3: Virtual | L3: Enero | M3: Rises
B4: 27 | D4: Berrio | H4: Anorí | J4: Presencial | L4: Febrero | M4: Dian
B5: 23 | D5: San roque | H5: Caracolí | J5: Hibrido | L5: Marzo | M5: CCU
B6: 26 | D6: El bagre | H6: Cisneros | L6: Abril | M6: Bancolombia
B7: 24 | C7: Tramitacion rut | D7: Caracolí | H7: El Bagre | L7: Mayo | M7: SENA
B8: 24 | H8: Maceo | L8: Junio | M8: Alcaldía
B9: 49 | H9: Medellin | L9: Julio | M9: CCMMNA
B10: 59 | C10: Tramitacion rut | D10: Virtual | H10: Nechi | L10: Agosto | M10: Policía
B11: 37 | D11: Pto. Berrio | H11: N/I | L11: Septiembre | M11: Comfama
B12: 39 | D12: San roque | H12: Otro | L12: Octubre | M12: Comfenalco
B13: 21 | D13: El bagre | H13: Puerto Berrío | L13: Noviembre | M13: Logyca
B14: 26 | C14: Piso protección social | D14: Virtual | H14: Puerto Nare | L14: Diciembre | M14: Tiendex
B15: 6 | C15: Formalizacion | D15: Pto. Berrio | H15: Puerto Triunfo | M15: OWL
B16: 52 | C16: CONVERSATORIO-INCREMENTO DE PRECIOS EN PRODUCTOS, EN TIEMPOS DE PANDEMIA | D16: Virtual | H16: Remedios | M16: CTA
B17: 28 | C17: CHARLA DE CONTRIBUCIÓN PARAFISCAL | D17: Virtual | H17: San Roque
B18: 121 | C18: FACTURACIÓN Y NÓMINA ELECTRÓNICA | D18: Virtual | H18: Segovia
B19: 33 | C19: BENEFICIOS TRIBUTARIOS PUERTO TRIUNFO | D19: Virtual | H19: Vegachí
B20: 40 | C20: BENEFICIOS TRIBUTARIOS PUERTO NARE | D20: Virtual | H20: Yalí
B21: 19 | C21: REUNIÓN CON EMPRENDEDORES | D21: Virtual | H21: Yolombó
B22: 19 | C22: SERVICIOS DE LA CCMMNA | D22: Pto. Berrio | H22: Yondó
B23: 59 | C23: TARDES DEL EMPRESARIO - REGISTRO DE MARCA | D23: Virtual | H23: Zaragoza
B24: 52 | C24: DIPLOMADO EN GESTIÓN Y FORMULACIÓN DE PROYECTOS | D24: Virtual | H24: Todos
B25: 16 | C25: CREACIÓN VITRINA EMPRESARIAL | D25: Virtual
B26: 13 | C26: Portafolio Servicios CCMMNA | D26: Pto. Berrio
B27: 5 | C27: Formación en Ruta Exportadora: Ruta Cacao | D27: Virtual
B28: 46 | C28: TARDES DEL EMPRESARIO – TRAMITES ANTE EL INVIMA | D28: Virtual
B29: 5 | C29: Formación en Ruta Exportadora: Sistema Moda | D29: Virtual
B30: 40 | C30: Feria de emprendedores del municipio de Puerto Berrio | D30: Pto. Berrio
B31: 243 | C31: Feria de Bancarización en el Municipio de San Roque | D31: San roque
B32: 14 | C32: Reunión con Comerciantes | D32: Pto. Berrio
B33: 28 | C33: Transformación Digital | D33: Virtual
B34: 22 | C34: Concertación Ferias Municipales | D34: Pto. Berrio
B35: 98 | C35: La Magia de Servir con Propósito | D35: Pto. Berrio
B36: 30 | C36: Higiene y Manipulación de Alimentos Vegachí
B37: 62 | C37: Higiene y Manipulación de Alimentos Amalfi
B38: 55 | C38: Pasarela de Pagos | D38: Virtual
B39: 31 | C39: Comisión Subregional del Magdalena Medio | D39: Pto. Berrio
B40: 21 | C40: El arte se servir con estilo | D40: Pto. Berrio
B41: 12 | C41: Tarde el Empresario Sociedades BIC | D41: Virtual
...

Sheet Hoja1
A1: FECHA | B1: ÁREA | C1: TIPO ACTIVIDAD | D1: MODALIDAD | E1: MUNICIPIO | F1: ALIADO | G1: EVENTO | H1: ASISTENTES | I1: DURACIÓN
A2: 44608 | B2: DE | C2: Capacitaciones | D2: Virtual | E2: NA | F2: CTDE | G2: CREACIÓN DE VITRINA EMPRESARIAL | H2: 14 | I2: 2
A3: 44608 | B3: DE | C3: Capacitaciones | D3: Presencial | E3: Caracolí | F3: SENA | G3: MANIPULACIÓN E HIGIENE DE ALIMENTOS | H3: 24 | I3: 4
A4: 44609 | B4: DE | C4: Capacitaciones | D4: Presencial | E4: Caracolí | F4: SENA | G4: MANIPULACIÓN E HIGIENE DE ALIMENTOS | H4: 24 | I4: 4
A5: 44610 | B5: DE | C5: Capacitaciones | D5: Presencial | E5: Caracolí | F5: SENA | G5: MANIPULACIÓN E HIGIENE DE ALIMENTOS | H5: 49 | I5: 4
A6: 44635 | B6: DE | C6: Capacitaciones | D6: Virtual | E6: NA | F6: GRAMALOTE | G6: CONVERSATORIO-INCREMENTO DE PRECIOS EN PRODUCTOS, EN TIEMPOS DE PANDEMIA | H6: 52 | I6: 2
A7: 44703 | B7: DE | C7: Capacitaciones | D7: Virtual | E7: NA | F7: CCMMNA | G7: Vitrina empresarial | H7: 19 | I7: 2
A8: 44719 | B8: DE | C8: Capacitaciones | D8: Presencial | E8: Puerto berrio | F8: CCMMNA | G8: Servicio al cliente - La magia de servir | H8: 97 | I8: 3
A9: 44721 | B9: DE | C9: Capacitaciones | D9: Presencial | E9: Vegachí | F9: SENA | G9: Higiene y Manipulación de Alimentos | H9: 30 | I9: 4
A10: 44721 | B10: DE | C10: Capacitaciones | D10: Virtual | E10: NA | F10: Bamcolombia | G10: Pasarela de pagos | H10: 34 | I10: 2
A11: 44722 | B11: DE | C11: Capacitaciones | D11: Presencial | E11: Amalfi | F11: SENA | G11: Higiene y Manipulación de Alimentos | H11: 62 | I11: 4
A12: 44727 | B12: DE | C12: Capacitaciones | D12: Presencial | E12: Puerto berrio | F12: CCMMNA | G12: El arte de servir con estilo | H12: 23 | I12: 2
A13: 44734 | B13: DE | C13: Capacitaciones | D13: Virtual | E13: NA | F13: CCMMNA | G13: Servicio al cliente | H13: 21 | I13: 2
A14: 44735 | B14: DE | C14: Capacitaciones | D14: Presencial | E14: Puerto berrio | F14: SENA | G14: Higiene y Manipulación de Alimentos | H14: 52 | I14: 4
B15: DE | C15: Capacitaciones | D15: Virtual | E15: NA | F15: RISES | G15: Diplomado en gestión y formulación de proyectos | H15: 35 | I15: 100
A16: 44735 | B16: DE | C16: Capacitaciones | D16: Virtual | E16: Puerto berrio | F16: CDTE | G16: Redes Sociales: Herramientas de apoyo | H16: 11 | I16: 2
A17: 44735 | B17: DE | C17: Capacitaciones | D17: Virtual | E17: Cisneros | F17: CDTE | G17: Redes Sociales: Herramientas de apoyo | H17: 16 | I17: 2
A18: 44735 | B18: DE | C18: Capacitaciones | D18: Virtual | E18: El bagre | F18: CDTE | G18: Redes Sociales: Herramientas de apoyo | H18: 1 | I18: 2
A19: 44735 | B19: DE | C19: Capacitaciones | D19: Virtual | E19: San roque | F19: CDTE | G19: Redes Sociales: Herramientas de apoyo | H19: 3 | I19: 2
A20: 44740 | B20: DE | C20: Capacitaciones | D20: Virtual | E20: El Bagre | F20: CDTE | G20: Herramientas de apoyo para la administración de redes sociales (fotografía digital, marca digital y Canvas) | H20: 1 | I20: 2
A21: 44740 | B21: DE | C21: Capacitaciones | D21: Virtual | E21: Puerto berrio | F21: CDTE | G21: Herramientas de apoyo para la administración de redes sociales (fotografía digital, marca digital y Canvas) | H21: 8 | I21: 2
A22: 44740 | B22: DE | C22: Capacitaciones | D22: Virtual | E22: San roque | F22: CDTE | G22: Herramientas de apoyo para la administración de redes sociales (fotografía digital, marca digital y Canvas) | H22: 1 | I22: 2
A23: 44744 | B23: DE | C23: Capacitaciones | D23: Virtual | E23: NA | F23: Rises | G23: Fotográfia de Producto | H23: 11 | I23: 2
A24: 44749 | B24: DE | C24: Capacitaciones | D24: Virtual | E24: NA | F24: CTDE | G24: Marketing Digital | H24: 6 | I24: 2
A25: 44749 | B25: DE | C25: Capacitaciones | D25: Virtual | E25: Cisneros | F25: CTDE | G25: Marketing Digital | H25: 1 | I25: 2
A26: 44749 | B26: DE | C26: Capacitaciones | D26: Virtual | E26: El Bagre | F26: CTDE | G26: Marketing Digital | H26: 1 | I26: 2
A27: 44749 | B27: DE | C27: Capacitaciones | D27: Virtual | E27: San roque | F27: CTDE | G27: Marketing Digital | H27: 1 | I27: 2
A28: 44790 | B28: DE | C28: Capacitaciones | D28: Virtual | E28: NA | F28: CCMMNA | G28: VITRINA EMPRESARIAL | H28: 21 | I28: 2
A29: 44791 | B29: DE | C29: Capacitaciones | D29: Presencial | E29: Puerto berrio | G29: Fortalecimiento Pitch club de Emprendedores | H29: 16 | I29: 2
A30: 44797 | B30: DE | C30: Capacitaciones | D30: Virtual | E30: NA | F30: CTDE | G30: Redes Sociales - Herramientas de Apoyo para la Administración | H30: 17 | I30: 2
A31: 44799 | B31: DE | C31: Capacitaciones | D31: Presencial | E31: Puerto berrio | G31: PRIMEROS AUXILIOS | H31: 15 | I31: 4
A32: 44824 | B32: DE | C32: Capacitaciones | D32: Presencial | E32: El Bagre | F32: CDTE | G32: Marketing Digital | H32: 14 | I32: 2
A33: 44825 | B33: DE | C33: Capacitaciones | D33: Presencial | E33: El Bagre | F33: CDTE | G33: Redes Sociales y Marketing Digital | H33: 20 | I33: 2
A34: 44825 | B34: DE | C34: Capacitaciones | D34: Virtual | E34: NA | F34: CCU | G34: Tarde el Empresario | H34: 12 | I34: 2
A35: 44826 | B35: DE | C35: Capacitaciones | D35: Presencial | E35: El Bagre | F35: CDTE | G35: Fotografía Digital | H35: 13 | I35: 2
A36: 44826 | B36: DE | C36: Capacitaciones | D36: Presencial | E36: San roque | F36: Gramalote | G36: Fotografía de Producto | H36: 15 | I36: 2
A37: 44853 | B37: DE | C37: Capacitaciones | D37: Virtual | E37: NA | F37: CCU | G37: Tarde del empresario: Qué es el Metaverso | H37: 17 | I37: 2
A38: 44874 | B38: DE | C38: Capacitaciones | D38: Virtual | E38: NA | F38: CCU | G38: Proyecta tu negocia a través de las lineas crédito | H38: 19 | I38: 2
A39: 44881 | B39: DE | C39: Capacitaciones | D39: Presencial | E39: Puerto berrio | F39: RISES | G39: Experiencia del Servicio y Customer Experience 4.0 | H39: 70 | I39: 4
A40: 44882 | B40: DE | C40: Capacitaciones | D40: Presencial | E40: Puerto berrio | F40: RISES | G40: Fotografía de producto con celular para emprendedores | H40: 17 | I40: 4
...

Sheet Hoja2
A1: Etiquetas de fila | B1: Suma de ASISTENTES
A2: DA | B2: 425
A3: Capacitaciones | B3: 425
A4: DE | B4: 1842
A5: Capacitaciones | B5: 1006
A6: Comisiones | B6: 177
A7: Eventos | B7: 320
A8: Programa | B8: 311
A9: Reunion | B9: 28
A10: DJ | B10: 548
A11: Capacitaciones | B11: 268
A12: Tramitación rut | B12: 280
A13: Total general | B13: 2815
